BEGIN:VCALENDAR
VERSION:2.0
METHOD:PUBLISH
PRODID:-//Virginia Tech//VT Calendar//EN
BEGIN:VEVENT
DTSTAMP:20101028T233000Z
UID:1282330561958@events.msu.edu
CATEGORIES:Performing Arts (Dance, Music, Theatre,  ...)
DTSTART:20101028T233000Z
DTEND:20101029T035900Z
SUMMARY:Two Hundred Years of Chopin
DESCRIPTION:
 <p>Celebrating the 200th anniversary of Chopin's 
 birth<br>\n
 <p>Join pianists <a href="http://people.music.msu.edu/detail.asp?ContactID=30&RecPos=37"> 
 Panayis Lyras</a>, <a href="http://people.music.msu.edu/detail.asp?ContactID=32&RecPos=41"> 
 Deborah Moriarty</a>, <a href="http://people.music.msu.edu/detail.asp?ContactID=47&RecPos=42">Alan 
 Nathan</a>,<a href="http://people.music.msu.edu/detail.asp?ContactID=73&RecPos=51"> 
 Derek Polischuk</a>, <a href="http://people.music.msu.edu/detail.asp?ContactID=92&RecPos=66"> 
 Minsoo Sohn</a>, <a href="http://people.music.msu.edu/detail.asp?ContactID=24&RecPos=73">George 
 Vatchnadze</a>, 
 and <a href="http://people.music.msu.edu/detail.asp?ContactID=51&RecPos=77"> 
 Ralph Votapek</a> 
 for an evening of Chopin's works ranging 
 from Rondo in C major for Two Pianos, Opus 73 
 to the Barcarolle in F-sharp major, Op. 60. 
 Preview lecture at 6:45 p.m. by <a href="http://people.music.msu.edu/detail.asp?ContactID=75&RecPos=25">Carol 
 Hess</a>.</p>\n
 \n
 <p>The 
 West Circle Series is generously sponsored by 
 Joanne and Bill Church.</p>\n
 \n
 <p>Vivace Shuttle 
 Available <a href="http://www.music.msu.edu/events/VivaceShuttle.php"> 
 - more info</a>.</p>\n\n
 Price: Regular ticket prices: $10 for adults, $8 for 
 senior citizens, free for students.\n
 Sponsor: College of Music\n
 Sponsor's Homepage: http://www.music.msu.edu\n
LOCATION:Music Building Auditorium 
END:VEVENT
END:VCALENDAR
