BEGIN:VCALENDAR
VERSION:2.0
METHOD:PUBLISH
PRODID:-//Virginia Tech//VT Calendar//EN
BEGIN:VEVENT
DTSTAMP:20101109T003000Z
UID:1282332626063@events.msu.edu
CATEGORIES:Performing Arts (Dance, Music, Theatre,  ...)
DTSTART:20101109T003000Z
DTEND:20101109T045900Z
SUMMARY:Suren Bagratuni, cello, Deborah Moriarty, piano
DESCRIPTION:
 Including works by Arvo Part and Edward Mirzoyan<p>more 
 about <a href="http://people.music.msu.edu/detail.asp?ContactID=44&RecPos=2">Suren 
 Bagratuni</a>\n
 <br>more about <a href="http://people.music.msu.edu/detail.asp?ContactID=32&RecPos=41">Deborah 
 Moriarty</a></br>\n\n
 Price: Regular ticket prices: $10 for adults, $8 for 
 senior citizens, free for students.\n
 Sponsor: College of Music\n
 Sponsor's Homepage: http://www.music.msu.edu\n
LOCATION:Music Building Auditorium
END:VEVENT
END:VCALENDAR
