BEGIN:VCALENDAR
VERSION:2.0
METHOD:PUBLISH
PRODID:-//Virginia Tech//VT Calendar//EN
BEGIN:VEVENT
DTSTAMP:20101117T003000Z
UID:1282333319731@events.msu.edu
CATEGORIES:Performing Arts (Dance, Music, Theatre,  ...)
DTSTART:20101117T003000Z
DTEND:20101117T045900Z
SUMMARY:Mark Votapek, cello, and Ralph Votapek, piano
DESCRIPTION:
 <p>Following ten years as\n
 associate principal 
 cellist\n
 of the Saint Louis Symphony,\n
 Mark 
 Votapek serves as professor\n
 of cello at the 
 University of\n
 Arizona. He has held recitals\n
 in 
 Chicago, Orlando, Miami,\n
 Nashville, Interlochen, 
 Kansas\n
 City, San Francisco, Tucson, 
 Honolulu, and Hilo. He also served as\n
 principal 
 cellist of the Honolulu Symphony.</p>\n
 <p>more 
 about <a href="http://web.cfa.arizona.edu/music/index.php/bio/?netid=mvotapek">Mark 
 Votapek</a><br>\n
 more about <a href="http://people.music.msu.edu/detail.asp?ContactID=51">Ralph 
 Votapek</a></p>\n
 <p>This project has been 
 in part made possible by donors to the University 
 of Arizona College of Fine Arts Dean's 
 Fund for Excellence.\n\n
 Price: Regular ticket prices: $10 for adults, $8 for 
 senior citizens, free for students.\n
 Sponsor: College of Music\n
 Sponsor's Homepage: http://www.music.msu.edu\n
LOCATION:Music Building Auditorium
END:VEVENT
END:VCALENDAR
