BEGIN:VCALENDAR
VERSION:2.0
METHOD:PUBLISH
PRODID:-//Virginia Tech//VT Calendar//EN
BEGIN:VEVENT
DTSTAMP:20101206T000000Z
UID:1282423309340@events.msu.edu
CATEGORIES:Performing Arts (Dance, Music, Theatre,  ...)
DTSTART:20101206T000000Z
DTEND:20101206T045900Z
SUMMARY:Justin O'Dell, clarinet, and Friends
DESCRIPTION:
 <p><Q>Brahms as Juror.</Q></p>\n
 <p>More about 
 <a href="http://people.music.msu.edu/detail.asp?ContactID=83&RecPos=49">Justin 
 O'Dell</a></p>\n
 <p>In 
 1896, a contest was announced in Vienna. 
 A prize would be awarded to the two best 
 new scores. Brahms was on the jury, and his 
 decision made all the difference.</p>\n
 Come 
 cast your vote! Raffle and reception to follow.</br>\n
 \n
 <p>I-Fu 
 Wang, violin; Nathan Jasinski, 
 cello; Derek Polischuk, piano; Janna Gandelsman, 
 piano; Carol Hess, panelist \n\n
 Price: Regular ticket prices: $10 for adults, $8 for 
 senior citizens, free for students.\n
 Sponsor: College of Music\n
 Sponsor's Homepage: http://www.music.msu.edu\n
LOCATION:Music Building Auditorium
END:VEVENT
END:VCALENDAR
