BEGIN:VCALENDAR
VERSION:2.0
METHOD:PUBLISH
PRODID:-//Virginia Tech//VT Calendar//EN
BEGIN:VEVENT
DTSTAMP:20110119T003000Z
UID:1282510115682@events.msu.edu
CATEGORIES:Performing Arts (Dance, Music, Theatre,  ...)
DTSTART:20110119T003000Z
DTEND:20110119T045900Z
SUMMARY:Molly Fillmore, soprano, and Alan Nathan, piano
DESCRIPTION:
 <p><Q>A Tribute to William Shakespeare</Q></p>\n
 <br>Featuring 
 areas by Verdi, and songs by 
 Korngold, Blitzstein, and Dickinson. Includes 
 the "Willow Song" and "Ave Marie" from Verdi's 
 Otello, as well as an aria from Verdi's opera 
 MacBeth.\n
 \n
 <p>More about <a href="http://people.music.msu.edu/detail.asp?ContactID=52&RecPos=18">Molly 
 Fillmore</a><br>\n
 More about 
 <a href="http://people.music.msu.edu/detail.asp?ContactID=47&RecPos=44">Alan 
 Nathan</a></p>\n\n
 Price: Regular ticket prices: $10 for adults, $8 for 
 senior citizens, free for students.\n
 Sponsor: College of Music\n
 Sponsor's Homepage: http://www.music.msu.edu\n
LOCATION:Music Building Auditorium 
END:VEVENT
END:VCALENDAR
