BEGIN:VCALENDAR
VERSION:2.0
METHOD:PUBLISH
PRODID:-//Virginia Tech//VT Calendar//EN
BEGIN:VEVENT
DTSTAMP:20110123T200000Z
UID:1282511322067@events.msu.edu
CATEGORIES:Performing Arts (Dance, Music, Theatre,  ...)
DTSTART:20110123T200000Z
DTEND:20110124T045900Z
SUMMARY:2011 Schubertiade 
DESCRIPTION:
 <p>Faculty and students from the vocal arts area 
 present Schubert works.</p>\n\n
 Price: Regular ticket prices: $10 for adults, $8 for 
 senior citizens, free for students.\n
 Sponsor: College of Music\n
 Sponsor's Homepage: http://www.music.msu.edu\n
LOCATION:Hart Recital Hall  
END:VEVENT
END:VCALENDAR
