BEGIN:VCALENDAR
VERSION:2.0
METHOD:PUBLISH
PRODID:-//Virginia Tech//VT Calendar//EN
BEGIN:VEVENT
DTSTAMP:20110206T010000Z
UID:1282583893328@events.msu.edu
CATEGORIES:Performing Arts (Dance, Music, Theatre,  ...)
DTSTART:20110206T010000Z
DTEND:20110206T045900Z
SUMMARY:Symphony Orchestra
DESCRIPTION:
 <p>GUEST CONDUCTOR<br> \n
 <a href="http://people.music.msu.edu/detail.asp?ContactID=17&RecPos=32">Raphael 
 Jimenez</a></p>\n
 <p>GUEST ARTISTS<br>\n
 <a 
 href="http://people.music.msu.edu/detail.asp?ContactID=32&RecPos=43">Deborah 
 Moriarty,</a> 
 piano,<br>\n
 <a href="http://people.music.msu.edu/detail.asp?ContactID=73&RecPos=51">Derek 
 Polischuk, </a>piano,<br>\n
 <a href="http://people.music.msu.edu/detail.asp?ContactID=68&RecPos=71">Gwen 
 Burgett Thrasher,</a> 
 percussion,<br>\n
 <a href="http://people.music.msu.edu/detail.asp?ContactID=12&RecPos=80">Jon 
 Weber,</a> percussion</p>\n
 <p>Debussy - 
 Prelude a lapres midi dun faune<br>\n
 Bartok 
 - Concerto for Two Pianos, Percussion\n
 and Orchestra<br>\n
 Stravinsky 
 - Petrushka 1947 version</p>\n\n
 Price: Regular ticket prices: $10 for adults, $8 for 
 senior citizens, free for students.\n
 Sponsor: College of Music\n
 Sponsor's Homepage: http://www.music.msu.edu\n
LOCATION:Cobb Great Hall, Wharton Center
END:VEVENT
END:VCALENDAR
