BEGIN:VCALENDAR
VERSION:2.0
METHOD:PUBLISH
PRODID:-//Virginia Tech//VT Calendar//EN
BEGIN:VEVENT
DTSTAMP:20110324T003000Z
UID:1282586562552@events.msu.edu
CATEGORIES:Performing Arts (Dance, Music, Theatre,  ...)
DTSTART:20110324T003000Z
DTEND:20110324T045900Z
SUMMARY:Cello Plus... Chamber Music Festival, Concert #3
DESCRIPTION:
 <p><b>Music of Shostakovich and his followers.</b> 
 Program includes Shostakovich's Piano Trio, 
 Arvo Part's Fratres for Eight Cellos, Gagik 
 Hovounts' Piano Trio (U.S. premiere) and features 
 Alexandre Brussilovsky, violin, <a href="http://people.music.msu.edu/detail.asp?ContactID=44&RecPos=2">Suren 
 Bagratuni</a>, cello, 
 <a href="http://people.music.msu.edu/detail.asp?ContactID=32&RecPos=41">Deborah 
 Moriarty</a>, 
 piano, and the MSU Cello Ensemble. Preview 
 lecture at 6:45 p.m. by <a href="http://people.music.msu.edu/detail.asp?ContactID=80&RecPos=3">Kevin 
 Bartig</a>.</p>\n
 <p>The West 
 Circle Series is generously sponsored by Joanne 
 and Bill Church.</p>\n
 \n
 <p>Vivace Shuttle 
 Available <a href="http://www.music.msu.edu/events/VivaceShuttle.php"> 
 - more info</a>.</p>\n\n
 Price: Regular ticket prices: $10 for adults, $8 for 
 senior citizens, free for students.\n
 Sponsor: College of Music\n
 Sponsor's Homepage: http://www.music.msu.edu\n
LOCATION:Music Building Auditorium
END:VEVENT
END:VCALENDAR
