BEGIN:VCALENDAR
VERSION:2.0
METHOD:PUBLISH
PRODID:-//Virginia Tech//VT Calendar//EN
BEGIN:VEVENT
DTSTAMP:20110411T120000Z
UID:1283361667229-0002@events.msu.edu
CATEGORIES:Exhibits (Museum, Gardens, ...)
DTSTART:20110411T120000Z
DTEND:20110411T210000Z
SUMMARY:Art & Art History 2010 Undergraduate Exhibition
DESCRIPTION:
  Price: free\n
 Sponsor: Department of Art & Art History\n
 Contact name: Michelle Word\n
 Contact phone: 517.432.3961\n
 Contact email: wordmich@msu.edu\n
 for more info visit the web at:\n 
 http://www.art.msu.edu\n
LOCATION:Kresge Art Museum
END:VEVENT
END:VCALENDAR
