BEGIN:VCALENDAR
VERSION:2.0
METHOD:PUBLISH
PRODID:-//Virginia Tech//VT Calendar//EN
BEGIN:VEVENT
DTSTAMP:20100919T213000Z
UID:1283519835005-0002@events.msu.edu
CATEGORIES:Student Events
DTSTART:20100919T213000Z
DTEND:20100920T035900Z
SUMMARY:The Alliance of Queer & Ally Students
DESCRIPTION:
 The Alliance of Queer & Ally Students has existed 
 at Michigan State University for over 40 
 years, as the LBGT voice in student government. 
 The purpose of the Alliance is to provide 
 a safe and healthy environment to advocate for 
 change, equality and inclusion for the MSU 
 community.\n\n
 Price: free\n
 Sponsor: Administration\n
 Sponsor's Homepage: http://lbgtrc.msu.edu\n
 Contact name: Nick Pfost\n
 Contact email: alliance@msu.edu\n
 for more info visit the web at:\n 
 http://: http://www.facebook.com/home.php#!/group.php?gid=2201751063&ref=ts\n
LOCATION:ASMSU Conference Room
END:VEVENT
END:VCALENDAR
