BEGIN:VCALENDAR
VERSION:2.0
METHOD:PUBLISH
PRODID:-//Virginia Tech//VT Calendar//EN
BEGIN:VEVENT
DTSTAMP:20100913T233000Z
UID:1283521469007-0001@events.msu.edu
CATEGORIES:Student Events
DTSTART:20100913T233000Z
DTEND:20100914T010000Z
SUMMARY:Respecting Individuals On Neutral Grounds
DESCRIPTION:
  Price: free\n
 Sponsor: RING\n
 Sponsor's Homepage: http://lbgtrc.msu.edu\n
 Contact name: Ross Kraynak\n
 Contact email: ringmsu@msu.edu\n
 for more info visit the web at:\n 
 http://www.facebook.com/search/?flt=1&q=transaction&o=65&s=30#!/group.php?gid=2201948319&v=info&ref=\n
LOCATION:C201 Snyder Phillips Hall
END:VEVENT
END:VCALENDAR
