BEGIN:VCALENDAR
VERSION:2.0
METHOD:PUBLISH
PRODID:-//Virginia Tech//VT Calendar//EN
BEGIN:VEVENT
DTSTAMP:20100915T233000Z
UID:1283958641555@events.msu.edu
CATEGORIES:Special Events
DTSTART:20100915T233000Z
DTEND:20100916T013000Z
SUMMARY:Autumn Celestial Highlights
DESCRIPTION:
 Bob Victor will preview the autumn skies and special 
 things that are going on, including Jupiter 
 and Venus at their brightest and the total 
 eclipse of the moon in December (it comes 
 before the Winter Soltice).\n\n
 Price: free\n
 Sponsor: Abrams Planetarium\n
 Sponsor's Homepage: http://www.pa.msu.edu/abrams\n
 Contact name: Mary Gowans\n
 Contact phone: 517-355-4676\n
 Contact email: gowans@msu.edu\n
 for more info visit the web at:\n 
 http://www.pa.msu.edu/abrams\n
LOCATION:Abrams Planetarium
END:VEVENT
END:VCALENDAR
