BEGIN:VCALENDAR
VERSION:2.0
METHOD:PUBLISH
PRODID:-//Virginia Tech//VT Calendar//EN
BEGIN:VEVENT
DTSTAMP:20101006T223000Z
UID:1283976456138@events.msu.edu
CATEGORIES:Performing Arts (Dance, Music, Theatre,  ...)
DTSTART:20101006T223000Z
DTEND:20101006T233000Z
SUMMARY:Korean Week Performance Night
DESCRIPTION:
 Campus groups will perform in a fun-filled event 
 highlighting Korean culture.  \n\n
 Price: free\n
 Sponsor: Asian Studies Center\n
 Sponsor's Homepage: http://asianstudies.msu.edu\n
 Contact phone: 517-353-1680\n
LOCATION:Kiva Auditorium 
END:VEVENT
END:VCALENDAR
