BEGIN:VCALENDAR
VERSION:2.0
METHOD:PUBLISH
PRODID:-//Virginia Tech//VT Calendar//EN
BEGIN:VEVENT
DTSTAMP:20110227T000000Z
UID:1284468492265@events.msu.edu
CATEGORIES:Exhibits (Museum, Gardens, ...)
DTSTART:20110227T000000Z
DTEND:20110227T045900Z
SUMMARY:Department of Art & Art History Apparel & Textile Design Fashion Show
DESCRIPTION:
  Price: Free\n
 Sponsor: Department of Art & Art History\n
 Contact name: Michelle Word\n
 Contact phone: 517.432.3961\n
 Contact email: wordmich@msu.edu\n
 for more info visit the web at:\n 
 http://www.art.msu.edu\n
LOCATION:Wharton Center, Pasant Theatre
END:VEVENT
END:VCALENDAR
