BEGIN:VCALENDAR
VERSION:2.0
METHOD:PUBLISH
PRODID:-//Virginia Tech//VT Calendar//EN
BEGIN:VEVENT
DTSTAMP:20101006T220000Z
UID:1284555865996@events.msu.edu
CATEGORIES:Conferences / Seminars / Lectures
DTSTART:20101006T220000Z
DTEND:20101007T035900Z
SUMMARY:Art & Art History Guest Lecture: Lynne Lancaster
DESCRIPTION:
  Price: free\n
 Sponsor: Department of Art & Art History\n
 Sponsor's Homepage: http://www.art.msu.edu/\n
 Contact name: Michelle Word\n
 Contact phone: (517)432-3961\n
 Contact email: wordmich@msu.edu\n
 for more info visit the web at:\n 
 http://www.art.msu.edu\n
LOCATION:Kresge Art Center, 108
END:VEVENT
END:VCALENDAR
