BEGIN:VCALENDAR
VERSION:2.0
METHOD:PUBLISH
PRODID:-//Virginia Tech//VT Calendar//EN
BEGIN:VEVENT
DTSTAMP:20100925T140000Z
UID:1284741418497@events.msu.edu
CATEGORIES:Student Events
DTSTART:20100925T140000Z
DTEND:20100925T170000Z
SUMMARY:Weekend MBA Information Event
DESCRIPTION:
 Considering an MBA? Find out more about MSU's 
 Weekend MBA. This Saturday session will feature 
 a chance to sit in on current classes and 
 have lunch with current students, in addition 
 to hearing a program presentation. Register 
 via the website at www.broad.msu.edu/mba/weekend.\n\n
 Price: free\n
 Sponsor: public\n
 Contact name: Cheri DeClercq\n
 Contact phone: 517-355-7603\n
 Contact email: wmba@bus.msu.edu\n
 for more info visit the web at:\n 
 http://http://broad.msu.edu/mba/weekend/learnmore\n
LOCATION:Henry Center for Executive Development
END:VEVENT
END:VCALENDAR
