BEGIN:VCALENDAR
VERSION:2.0
METHOD:PUBLISH
PRODID:-//Virginia Tech//VT Calendar//EN
BEGIN:VEVENT
DTSTAMP:20100930T210000Z
UID:1285354219675@events.msu.edu
CATEGORIES:Student Events
DTSTART:20100930T210000Z
DTEND:20100930T233000Z
SUMMARY:The Constitution and American Society: Political, Legal and Social Issues
DESCRIPTION:
 &quot;The Constitution: Religion, Law and Politics&quot;\n
 Time: 
 5:00pm-6:00pm \n
 Location:  
 Castle Boardroom (room 343, third floor) of the 
 Law College                               
                          \n
 Join Professor Frank 
 Ravitch (Law College) and Professor Gene Burns 
 (James Madison College) for a session to 
 discuss the relationships between religion, 
 law and politics with a special focus on the 
 U.S. Constitution.  Professors Ravitch and Burns 
 will focus their comments toward Intelligent 
 Design and the paradoxical influence of the 
 Christian Right, as well as the controversy 
 surrounding the construction of the New York 
 Islamic Center.  A question and answer session 
 will follow formal comments.\n
 \n
 \n
        
                   Pizza and beverages will be 
 served\n
 Time:  6:00pm-6:30pm\n
 \n
 \n
           
                                    &quot;Chinese 
 Exclusion and the Origins of Immigration 
 Enforcement&quot;\n
 \n
 \n
 Time: 6:30pm-7:30pm \n
 Location:  Castle Boardroom (room 343, third 
 floor) of the Law College\n
 \n
 \n
 Join Professor 
 Ann Pegler-Gordon (James Madison College) and 
 Professor David Thronson (Law College) for 
 a session to discuss immigration-related issues 
 with a special focus on the U.S. Constitution. 
  They will discuss the historical development 
 of the border, enforcement, and identity 
 documentation, and connections to current debates 
 about illegal immigration including SB1070. 
  A question and answer session will follow 
 formal comments.\n
 \n
 \n
 3)  Closing Remarks\n
 \n\n
 Price: free\n
 Sponsor: public\n
 Contact name: Sandra Walther\n
 Contact phone: 353-5380\n
 Contact email: swalther@msu.edu\n
 for more info visit the web at:\n 
 http://constitutionday.msu.edu\n
LOCATION:Law College Room 343
END:VEVENT
END:VCALENDAR
