BEGIN:VCALENDAR
VERSION:2.0
METHOD:PUBLISH
PRODID:-//Virginia Tech//VT Calendar//EN
BEGIN:VEVENT
DTSTAMP:20101104T120000Z
UID:1285695268613@events.msu.edu
CATEGORIES:Conferences / Seminars / Lectures
DTSTART:20101104T120000Z
DTEND:20101104T130000Z
SUMMARY:Pediatric Echocardiography: From Diagnostic Cornerstone to Therapeutic Frontier
DESCRIPTION:
  Price: free\n
 Sponsor: Administration\n
 Sponsor's Homepage: http://humanmedicine.msu.edu/\n
 Contact name: Betty Elliott\n
 Contact phone: 517 355-4715\n
 Contact email: betty.elliott@ht.msu.edu\n
LOCATION:Sparrow Hospital Auditorium
END:VEVENT
END:VCALENDAR
