BEGIN:VCALENDAR
VERSION:2.0
METHOD:PUBLISH
PRODID:-//Virginia Tech//VT Calendar//EN
BEGIN:VEVENT
DTSTAMP:20101029T040000Z
UID:1286197068642-0001@events.msu.edu
CATEGORIES:Academic
DTSTART;VALUE=DATE:20101029
DTEND;VALUE=DATE:20101030
SUMMARY:Central Eurasian Studies Society Conference
DESCRIPTION:
 CESS invites panel and paper proposals for the 
 Eleventh Annual CESS Conference, October 28-31, 
 2010, in East Lansing, MI. The event will 
 be held at Michigan State University, hosted 
 by the Center for European, Russian and Eurasian 
 Studies and the Asian Studies Center. Panels 
 begin Friday morning, October 29, and continue 
 through mid-day on Sunday, October 31.\n
 Panel 
 and paper topics relating to all aspects 
 of humanities and social science scholarship 
 on Central Eurasia are welcome. The geographic 
 domain of Central Eurasia extends from 
 the Black Sea and Iranian Plateau to Mongolia 
 and Siberia, including the Caucasus, Crimea, 
 Middle Volga, Afghanistan, Tibet, and Central 
 and Inner Asia. Practitioners and scholars 
 in all humanities and social science disciplines 
 with an interest in Central Eurasia are encouraged 
 to participate.\n
 \n
 The program will 
 feature approximately 45 panels and there will 
 also be a supplementary program including 
 a welcome reception on Thursday, a conference 
 dinner and a keynote speaker. \n\n
 Price: free\n
 Sponsor: Asian Studies Center\n
 Sponsor's Homepage: http://asianstudies.msu.edu\n
 for more info visit the web at:\n 
 http://www.cess.muohio.edu/\n
LOCATION:Kellogg Center
END:VEVENT
END:VCALENDAR
