BEGIN:VCALENDAR
VERSION:2.0
METHOD:PUBLISH
PRODID:-//Virginia Tech//VT Calendar//EN
BEGIN:VEVENT
DTSTAMP:20101008T160000Z
UID:1286216167075@events.msu.edu
CATEGORIES:Conferences / Seminars / Lectures
DTSTART:20101008T160000Z
DTEND:20101008T170000Z
SUMMARY:The Land Question in Southern Africa: 2010
DESCRIPTION:
 \n
 	CASID/Gen-Cen Friday Forum with Bill Derman, 
 MSU Faculty Emeritus (Dept. of International 
 Environment and Development Studies, Norwegian 
 University of the Life Sciences).\n\n
 Price: free\n
 Sponsor: African Studies Center\n
 Sponsor's Homepage: http://africa.msu.edu\n
 Contact name: Andrea Allen\n
 Contact phone: 517 - 353-5925\n
 Contact email: allenan9@msu.edu\n
LOCATION:201 International Center
END:VEVENT
END:VCALENDAR
