BEGIN:VCALENDAR
VERSION:2.0
METHOD:PUBLISH
PRODID:-//Virginia Tech//VT Calendar//EN
BEGIN:VEVENT
DTSTAMP:20101015T110000Z
UID:1286220310926-0005@events.msu.edu
CATEGORIES:Special Events
DTSTART:20101015T110000Z
DTEND:20101015T190000Z
SUMMARY:MSU Community Reuse Days
DESCRIPTION:
 A free opportunity for faculty, staff, students, 
 retirees and alumni to clean out their basements 
 and garages. \n\n
 Price: free\n
 Sponsor: MSU Surplus Store\n
 Sponsor's Homepage: http://msusurplusstore.com\n
 Contact name: MSU Surplus\n
 Contact phone: (517) 355-0364\n
 Contact email: surpluss@msu.edu\n
 for more info visit the web at:\n 
 http://www.msusurplusstore.com/servlet/StoreFront\n
LOCATION:Surplus Store & Recycling Center
END:VEVENT
END:VCALENDAR
