BEGIN:VCALENDAR
VERSION:2.0
METHOD:PUBLISH
PRODID:-//Virginia Tech//VT Calendar//EN
BEGIN:VEVENT
DTSTAMP:20101109T050000Z
UID:1286226005718-0009@events.msu.edu
CATEGORIES:Performing Arts (Dance, Music, Theatre,  ...)
DTSTART;VALUE=DATE:20101109
DTEND;VALUE=DATE:20101110
SUMMARY:Bring a Friend Month
DESCRIPTION:
 The MSU Community Music School has always offered 
 classes, lessons and ensembles you enjoy. 
 Now you can share your favorite CMS experiences 
 with a friend. For the entire month of November, 
 CMS is encouraging students to bring 
 a friend with they attend a program. The entire 
 school is open to Bring a Friend month but 
 please check with your instructor first. All 
 participants in Bring a Friend Month will receive 
 a special gift from CMS.\n\n
 Price: free\n
 Sponsor: Administration\n
 Sponsor's Homepage: http://cms.msu.edu\n
 Contact phone: (517) 355-7661\n
 for more info visit the web at:\n 
 http://cms.msu.edu\n
LOCATION:MSU Community Music School
END:VEVENT
END:VCALENDAR
