BEGIN:VCALENDAR
VERSION:2.0
METHOD:PUBLISH
PRODID:-//Virginia Tech//VT Calendar//EN
BEGIN:VEVENT
DTSTAMP:20101008T180000Z
UID:1286382665579@events.msu.edu
CATEGORIES:Special Events
DTSTART:20101008T180000Z
DTEND:20101008T190000Z
SUMMARY:Elder HeART Tours
DESCRIPTION:
 For People Living with Memory Loss, Alzheimer's 
 Disease &amp; Dementia, and Those Who Care 
 for Them.  Carefully designed tours led by specially 
 trained docents stimulate lively, thoughtful 
 conversations in this fun, social, creative 
 and meaningful outing to the museum. Elder 
 HeART invite participants and caregivers 
 to observe, interpret, enjoy, and share their 
 thoughts about art and life from many cultures, 
 time periods and artistic points of view.\n\n
 Price: free\n
 Sponsor: public\n
 Contact name: Cari Wolfe\n
 Contact phone: (517) 884-0653\n
 Contact email: wolfeca1@msu.edu\n
 for more info visit the web at:\n 
 http://www.artmuseum.msu.edu\n
LOCATION:Kresge Art Museum
END:VEVENT
END:VCALENDAR
