BEGIN:VCALENDAR
VERSION:2.0
METHOD:PUBLISH
PRODID:-//Virginia Tech//VT Calendar//EN
BEGIN:VEVENT
DTSTAMP:20110123T180000Z
UID:1287169399439@events.msu.edu
CATEGORIES:Performing Arts (Dance, Music, Theatre,  ...)
DTSTART:20110123T180000Z
DTEND:20110124T045900Z
SUMMARY:STOMP
DESCRIPTION:
  Price: $25, $35, $45\n
 Sponsor: Administration\n
 Sponsor's Homepage: http://whartoncenter.com\n
 Contact phone: 1-800-WHARTON\n
 for more info visit the web at:\n 
 http://whartoncenter.com/boxoffice/performance.aspx?pid=937\n
LOCATION:Wharton Center: Cobb Great Hall
END:VEVENT
END:VCALENDAR
