BEGIN:VCALENDAR
VERSION:2.0
METHOD:PUBLISH
PRODID:-//Virginia Tech//VT Calendar//EN
BEGIN:VEVENT
DTSTAMP:20110421T233000Z
UID:1288637034175@events.msu.edu
CATEGORIES:Performing Arts (Dance, Music, Theatre,  ...)
DTSTART:20110421T233000Z
DTEND:20110422T020000Z
SUMMARY:Michigan Opera Theatre
DESCRIPTION:
  Price: Tickets $78, $60, $25\n
 Sponsor: Mid-Michigan MRI and Wolverine Development Corporation 
 \n
 Sponsor's Homepage: http://whartoncenter.com\n
 Contact name: Bob Hoffman\n
 Contact phone: 1-800-WHARTON \n
 Contact email: wharton@msu.edu \n
 for more info visit the web at:\n 
 http://whartoncenter.com\n
LOCATION:Wharton Center: Cobb Great Hall
END:VEVENT
END:VCALENDAR
