BEGIN:VCALENDAR
VERSION:2.0
METHOD:PUBLISH
PRODID:-//Virginia Tech//VT Calendar//EN
BEGIN:VEVENT
DTSTAMP:20101207T170000Z
UID:1288896099577@events.msu.edu
CATEGORIES:Public Programs
DTSTART:20101207T170000Z
DTEND:20101207T180000Z
SUMMARY:Gallery Walk: Designing Women of Postwar Britain
DESCRIPTION:
 Museum education staff tour participants through 
 the current British textile exhibition.\n\n
 Price: free\n
 Sponsor: public\n
 Contact name: Christine Nichols\n
 Contact phone: (517) 884-0659\n
 Contact email: nicho357@msu.edu\n
 for more info visit the web at:\n 
 http://www.artmuseum.msu.edu\n
LOCATION:Kresge Art Museum
END:VEVENT
END:VCALENDAR
