BEGIN:VCALENDAR
VERSION:2.0
METHOD:PUBLISH
PRODID:-//Virginia Tech//VT Calendar//EN
BEGIN:VEVENT
DTSTAMP:20110103T220000Z
UID:1288966629692@events.msu.edu
CATEGORIES:Performing Arts (Dance, Music, Theatre,  ...)
DTSTART:20110103T220000Z
DTEND:20110104T000000Z
SUMMARY:Spring Semester Choir Auditions
DESCRIPTION:
 Prospective singers looking join one a CMS choir 
 should audition January 3. The four choirs 
 are: the Preparatory Choir (ages 7-10), the 
 CMS Singers (ages 9-14), the MSU Children's Choir 
 (ages 10-17) and the Young Men's Chorus 
 (ages 13-18). Auditions are held from 5-7 p.m. 
 No audition material is necessary. Please call 
 355-7661, ext. 10 for an audition time.\n\n
 Price: free\n
 Sponsor: Administration\n
 Sponsor's Homepage: http://cms.msu.edu\n
 Contact phone: (517) 355-7661\n
 Contact email: adarche@msu.edu, zaryskik@msu.edu\n
 for more info visit the web at:\n 
 http://cms.msu.edu/el/children/choirs.php?el_child_choirs\n
LOCATION:MSU Community Music School
END:VEVENT
END:VCALENDAR
