BEGIN:VCALENDAR
VERSION:2.0
METHOD:PUBLISH
PRODID:-//Virginia Tech//VT Calendar//EN
BEGIN:VEVENT
DTSTAMP:20101117T230000Z
UID:1289848123654@events.msu.edu
CATEGORIES:Movie / Film
DTSTART:20101117T230000Z
DTEND:20101118T045900Z
SUMMARY:"Transgeneration" Selected Showing 2
DESCRIPTION:
  Sponsor: LBGT Resource Center\n
 Sponsor's Homepage: http://lbgtrc.msu.edu\n
LOCATION:218A Berkely Hall
END:VEVENT
END:VCALENDAR
