BEGIN:VCALENDAR
VERSION:2.0
METHOD:PUBLISH
PRODID:-//Virginia Tech//VT Calendar//EN
BEGIN:VEVENT
DTSTAMP:20110111T050000Z
UID:1292881543074@events.msu.edu
CATEGORIES:Student Events
DTSTART;VALUE=DATE:20110111
DTEND;VALUE=DATE:20110112
SUMMARY:VIPP Orientation
DESCRIPTION:
 Orientation for new fellows\n\n
 Price: free\n
 Sponsor: International Studies and Programs\n
 Sponsor's Homepage: http://www.isp.msu.edu/vipp\n
END:VEVENT
END:VCALENDAR
