BEGIN:VCALENDAR
VERSION:2.0
METHOD:PUBLISH
PRODID:-//Virginia Tech//VT Calendar//EN
BEGIN:VEVENT
DTSTAMP:20110302T200000Z
UID:1293113318997@events.msu.edu
CATEGORIES:Conferences / Seminars / Lectures
DTSTART:20110302T200000Z
DTEND:20110302T210000Z
SUMMARY:Organic Seminar/Department of Chemistry
DESCRIPTION:
 Professor Peter Andreana, Wayne State University, 
 will present an organic chemistry seminar 
 on Wednesday, March 2, titled - Entirely Carbohydrate 
 Vaccine Constructs and their Application 
 in Probing Glycoimmunology.  Host - Professor 
 Xuefei Huang.\n\n
 Price: free\n
 Sponsor: Chemistry\n
 Sponsor's Homepage: http://www.chemistry.msu.edu/\n
 Contact name: DeAnn Pierce\n
 Contact phone: 517-355-9715, X137\n
 Contact email: pierce@chemistry.msu.edu\n
LOCATION:136 Chemistry
END:VEVENT
END:VCALENDAR
