BEGIN:VCALENDAR
VERSION:2.0
METHOD:PUBLISH
PRODID:-//Virginia Tech//VT Calendar//EN
BEGIN:VEVENT
DTSTAMP:20110430T040000Z
UID:1293642245058-0014@events.msu.edu
CATEGORIES:Exhibits (Museum, Gardens, ...)
DTSTART;VALUE=DATE:20110430
DTEND;VALUE=DATE:20110501
SUMMARY:re:Dress
DESCRIPTION:
 re:Dress is an exhibit highlighting MSU Apparel 
 and Textile Design students sustainable fashion 
 designs.  The projects centers on the creation 
 of a red carpet worthy "green" gown. Throughout 
 this process, student designers learned 
 about sustainability and the difficulties 
 in sourcing materials, constructing the garment 
 using a green method, and considering the 
 lifecycle of the garment beyond the project. 
      \n\n
 Price: free\n
 Sponsor: MSU Museum\n
 Sponsor's Homepage: http://museum.msu.edu\n
 Contact phone: 517-355-2370\n
 Contact email: pr@museum.msu.edu\n
 for more info visit the web at:\n 
 http://museum.msu.edu\n
LOCATION:MSU Museum -Heritage Gallery
END:VEVENT
END:VCALENDAR
