BEGIN:VCALENDAR
VERSION:2.0
METHOD:PUBLISH
PRODID:-//Virginia Tech//VT Calendar//EN
BEGIN:VEVENT
DTSTAMP:20110203T170000Z
UID:1293726278731@events.msu.edu
CATEGORIES:Student Events
DTSTART:20110203T170000Z
DTEND:20110203T175000Z
SUMMARY:SOMA Presentation on Samaritan's Purse (World Medical Mission)
DESCRIPTION:
 Description of Event: Dr. Radecky and Dr. Oviatt 
 will talk about their experiences working 
 with World Medical Mission in West Africa. \n
 \n\n
 Price: Free \n
 Sponsor: SOMA (Student Osteopathic Medical Association)\n
 Contact name: Hailey Wouters\n
 Contact phone: 815-474-8508\n
 Contact email: HaileyWtrs@gmail.com\n
LOCATION:EL E105, DMC G030, MUC UC3 208
END:VEVENT
END:VCALENDAR
