BEGIN:VCALENDAR
VERSION:2.0
METHOD:PUBLISH
PRODID:-//Virginia Tech//VT Calendar//EN
BEGIN:VEVENT
DTSTAMP:20110116T210000Z
UID:1294246498049@events.msu.edu
CATEGORIES:Public Programs
DTSTART:20110116T210000Z
DTEND:20110116T223000Z
SUMMARY:How to Build a Planet
DESCRIPTION:
 John De Lancie narrates this show which explores 
 the celestial and geologic forces that shaped 
 the Earth and allowed for the creation of 
 life.  Learn the recipe that made Earth different 
 from its planetary neighbors Mars and Venus.\n\n
 Price: Adults $3.00, students and senior citizens $2.50, 
 children 12 years and under $2.00\n
 Sponsor: Abrams Planetarium\n
 Sponsor's Homepage: http://www.pa.msu.edu/abrams\n
 Contact name: Mary Gowans\n
 Contact phone: 517-355-4676\n
 Contact email: gowans@msu.edu\n
 for more info visit the web at:\n 
 http://www.pa.msu.edu/abrams\n
LOCATION:Abrams Planetarium
END:VEVENT
END:VCALENDAR
