BEGIN:VCALENDAR
VERSION:2.0
METHOD:PUBLISH
PRODID:-//Virginia Tech//VT Calendar//EN
BEGIN:VEVENT
DTSTAMP:20110204T000000Z
UID:1294257148308@events.msu.edu
CATEGORIES:Special Events
DTSTART:20110204T000000Z
DTEND:20110204T045900Z
SUMMARY:CANCELED: Spring Visiting Chefs Series - Dinner with the Chef
DESCRIPTION:
  Price: See more information...\n
 Sponsor: public\n
 Contact name: Joel Heberlein\n
 Contact phone: 517-432-1966\n
 Contact email: heberle2@msu.edu\n
 for more info visit the web at:\n 
 http://stateroomrestaurant.com/visiting_chefs.html\n
LOCATION:Kellogg Hotel & Conference Center
END:VEVENT
END:VCALENDAR
