BEGIN:VCALENDAR
VERSION:2.0
METHOD:PUBLISH
PRODID:-//Virginia Tech//VT Calendar//EN
BEGIN:VEVENT
DTSTAMP:20110310T211000Z
UID:1295301365770@events.msu.edu
CATEGORIES:Conferences / Seminars / Lectures
DTSTART:20110310T211000Z
DTEND:20110310T223000Z
SUMMARY:Chemistry Colloquium, Spring 2011
DESCRIPTION:
 Professor Wei Zhan, Auburn University, will present 
 a chemistry colloquium on Thursday, March 
 10.  Title - Molecular Photovoltaics:  A Lipid-Based 
 Approach.   Host - Professor Merlin 
 Bruening.\n\n
 Price: free\n
 Sponsor: Chemistry\n
 Sponsor's Homepage: http://www.chemistry.msu.edu/\n
 Contact name: DeAnn Pierce\n
 Contact phone: 517-355-9715, X137\n
LOCATION:136 Chemistry
END:VEVENT
END:VCALENDAR
