BEGIN:VCALENDAR
VERSION:2.0
METHOD:PUBLISH
PRODID:-//Virginia Tech//VT Calendar//EN
BEGIN:VEVENT
DTSTAMP:20110121T174000Z
UID:1295364054883@events.msu.edu
CATEGORIES:Conferences / Seminars / Lectures
DTSTART:20110121T174000Z
DTEND:20110121T184000Z
SUMMARY:Complex Materials Seminar
DESCRIPTION:
 Complex Materials Seminar presented by Dr. Remi 
 Beaulac, University of Washington:  "An Inorganic 
 Spectroscopy Approach to New Photophysical 
 Effects in Colloidal MN(II)-Doped Nanoparticles."\n\n
 Price: free\n
 Sponsor: Department of Chemistry\n
 Sponsor's Homepage: http://chemistry.msu.edu\n
 Contact name: Rebecca Townsend\n
 Contact phone: 355-9715 x345\n
 Contact email: townse44@msu.edu\n
 for more info visit the web at:\n 
 http://chemistry.msu.edu/calendar\n
LOCATION:Room 136 Chemistry
END:VEVENT
END:VCALENDAR
