BEGIN:VCALENDAR
VERSION:2.0
METHOD:PUBLISH
PRODID:-//Virginia Tech//VT Calendar//EN
BEGIN:VEVENT
DTSTAMP:20110128T210000Z
UID:1295452728125@events.msu.edu
CATEGORIES:Conferences / Seminars / Lectures
DTSTART:20110128T210000Z
DTEND:20110128T220000Z
SUMMARY:January 28 - Geological Sciences Seminar Series
DESCRIPTION:
 <p><b>Dr. Ralph Taggart</b>\n
 <p><i>Michigan State 
 University</i>\n
 <p><b>"Greenhouse to Icehouse 
 and Back Again: the Origin and Future of 
 the Boreal Forest Biome\n
 "</b>\n
 <p>Please join 
 us for refreshments at 3:30pm in Room 207 
 Natural Science Building\n
 <p>\n
 \n\n
 Price: free\n
 Sponsor: Administration\n
 Sponsor's Homepage: http://glg.msu.edu\n
 for more info visit the web at:\n 
 http://events.msu.edu/export.php?type=rss2_0&calendar=geologicalsciences&categoryid=809\n
LOCATION:204 Natural Science Building
END:VEVENT
END:VCALENDAR
