BEGIN:VCALENDAR
VERSION:2.0
METHOD:PUBLISH
PRODID:-//Virginia Tech//VT Calendar//EN
BEGIN:VEVENT
DTSTAMP:20110130T183000Z
UID:1295619935588@events.msu.edu
CATEGORIES:Performing Arts (Dance, Music, Theatre,  ...)
DTSTART:20110130T183000Z
DTEND:20110131T045900Z
SUMMARY:The Grapes of Wrath in Word and Song
DESCRIPTION:
 <p>Join artists from Michigan State University's 
 College of Music and Department of Theatre 
 in an afternoon of excerpts from Ricky Ian Gordon 
 and Michael Korie's monumental operatic 
 adaptation and Frank Galati's stirring theatrical 
 rendering of John Steinbeck's novel of 
 the Dust Bowl.</p> To register and for\n\n
 Price: free\n
 Sponsor: MSU Cultural Engagement Council/College of Music/Department 
 of Theatre\n
 Sponsor's Homepage: http://www.artsandculture.msu.edu\n
 Contact phone: 517-373-1359\n
 Contact email: heltonm@msu.edu\n
 for more info visit the web at:\n 
 http://grapesofwrath.eventbrite.com\n
LOCATION:Michigan Historical Museum Auditorium. 702 W. Kalamazoo St., Lansing
END:VEVENT
END:VCALENDAR
