BEGIN:VCALENDAR
VERSION:2.0
METHOD:PUBLISH
PRODID:-//Virginia Tech//VT Calendar//EN
BEGIN:VEVENT
DTSTAMP:20110212T220500Z
UID:1296504354407@events.msu.edu
CATEGORIES:Athletics
DTSTART:20110212T220500Z
DTEND:20110213T045900Z
SUMMARY:Ice hockey vs. Northern Michigan
DESCRIPTION:
 Time/location subject to change. For the most 
 up-to-date information, go to http://www.msuspartans.com.\n\n
 Price: See msuspartans.com\n
 Sponsor: Athletics\n
 Sponsor's Homepage: http://www.msuspartans.com/sports/m-hockey/msu-m-hockey-body.html\n
 for more info visit the web at:\n 
 http://www.msuspartans.com/sports/m-hockey/msu-m-hockey-body.html\n
LOCATION:Munn Ice Arena
END:VEVENT
END:VCALENDAR
