BEGIN:VCALENDAR
VERSION:2.0
METHOD:PUBLISH
PRODID:-//Virginia Tech//VT Calendar//EN
BEGIN:VEVENT
DTSTAMP:20110219T000000Z
UID:1296505155532@events.msu.edu
CATEGORIES:Athletics
DTSTART:20110219T000000Z
DTEND:20110219T045900Z
SUMMARY:Wrestling vs. Michigan
DESCRIPTION:
 Time/location subject to change. For the most 
 up-to-date information, go to http://www.msuspartans.com.\n\n
 Price: See msuspartans.com\n
 Sponsor: Athletics\n
 Sponsor's Homepage: http://www.msuspartans.com/sports/m-wrestl/msu-m-wrestl-body.html\n
 for more info visit the web at:\n 
 http://www.msuspartans.com/sports/m-wrestl/msu-m-wrestl-body.html\n
LOCATION:Jenison Field House
END:VEVENT
END:VCALENDAR
