BEGIN:VCALENDAR
VERSION:2.0
METHOD:PUBLISH
PRODID:-//Virginia Tech//VT Calendar//EN
BEGIN:VEVENT
DTSTAMP:20110225T220000Z
UID:1296579915474@events.msu.edu
CATEGORIES:Student Events
DTSTART:20110225T220000Z
DTEND:20110226T000000Z
SUMMARY:Student Osteopathic Medical Association Elections
DESCRIPTION:
 Description of Event:SOMA Elections\n
 \n\n
 Price: Free\n
 Sponsor: student\n
 Contact name: Becky Bajoka\n
 Contact phone: 248-761-4620\n
 Contact email: bajokare@msu.edu\n
LOCATION:EL E105, DMC G030, MUC UC3 208
END:VEVENT
END:VCALENDAR
