BEGIN:VCALENDAR
VERSION:2.0
METHOD:PUBLISH
PRODID:-//Virginia Tech//VT Calendar//EN
BEGIN:VEVENT
DTSTAMP:20110303T000000Z
UID:1297880183779@events.msu.edu
CATEGORIES:Student Events
DTSTART:20110303T000000Z
DTEND:20110303T020000Z
SUMMARY:Spring Break Sunglass Craft Night
DESCRIPTION:
  Price: FREE\n
 Sponsor: University Activities Board (UAB)\n
 Sponsor's Homepage: http://www.uabevents.com\n
 Contact name: University Activities Board\n
 Contact phone: 355-3354\n
 Contact email: uab@hfs.msu.edu\n
 for more info visit the web at:\n 
 http://www.uabevents.com\n
LOCATION:Union Food Court
END:VEVENT
END:VCALENDAR
