BEGIN:VCALENDAR
VERSION:2.0
METHOD:PUBLISH
PRODID:-//Virginia Tech//VT Calendar//EN
BEGIN:VEVENT
DTSTAMP:20110302T050000Z
UID:1298398786547@events.msu.edu
CATEGORIES:Student Events
DTSTART:20110302T050000Z
DTEND:20110302T180000Z
SUMMARY:Student Parents At Medical School Meeting
DESCRIPTION:
 Description of Event: Monthly meeting & planning 
 for upcoming events\n
 \n\n
 Price: Free\n
 Sponsor: Student Parents At Medical School\n
 Contact name: Jamie Mueller\n
 Contact phone: (248) 875-6122\n
 Contact email: muell174@msu.edu\n
 for more info visit the web at:\n 
 http://www.com.msu.edu/Student_Groups/Flyers-2010/SPAM.pdf\n
LOCATION:EL E105, DMC G029
END:VEVENT
END:VCALENDAR
