BEGIN:VCALENDAR
VERSION:2.0
METHOD:PUBLISH
PRODID:-//Virginia Tech//VT Calendar//EN
BEGIN:VEVENT
DTSTAMP:20110322T230000Z
UID:1299016070101@events.msu.edu
CATEGORIES:International Events (Study Abroad, ...)
DTSTART:20110322T230000Z
DTEND:20110323T003000Z
SUMMARY:Peace Corps Information Meeting
DESCRIPTION:
 \n
 	Come find out about opportunities to serve 
 abroad in the Peace Corps. We will have guest 
 speakers on hand to talk about their experiences 
 and we will talk about what Peace Corps 
 is and how the application process works.\n
 \n\n
 Price: free\n
 Sponsor: MSU Peace Corps\n
 Sponsor's Homepage: http://peacecorps.isp.msu.edu/\n
 Contact name: Rachel Ellick\n
 Contact phone: 517 432 7474\n
 Contact email: msupeace@msu.edu\n
LOCATION:303 International Center
END:VEVENT
END:VCALENDAR
