BEGIN:VCALENDAR
VERSION:2.0
METHOD:PUBLISH
PRODID:-//Virginia Tech//VT Calendar//EN
BEGIN:VEVENT
DTSTAMP:20110324T130000Z
UID:1299084432052@events.msu.edu
CATEGORIES:Conferences / Seminars / Lectures
DTSTART:20110324T130000Z
DTEND:20110324T140000Z
SUMMARY:Autism: Diagnosis and Differential Diagnosis
DESCRIPTION:
 MSU Pediatric Grand Rounds presented by:  Andrea 
 Amalfitano, DO, PhD, Osteopathic Heritage 
 Foundation Professor of Pediatrics, Microbiology 
 and Molecular Genetics at Michigan State 
 University.  At the end of the activity (presentation), 
 the participants will be better able 
 to: 1.Understand differences between classical 
 and non-classical autism symptoms; 2.Understand 
 incidence of Autism Spectrum Disorders 
 (ASD); 3.Define heritability of autism;\n
 4.Consider 
 recent information regarding vaccines 
 and causation of autism; 5.Review most common 
 genetic causes of autism; and 6.Review current 
 diagnostic evaluation considerations\n
 \n\n
 Price: free\n
 Sponsor: Administration\n
 Sponsor's Homepage: http://humanmedicine.msu.edu/\n
 Contact name: Betty Elliott\n
 Contact phone: 517 355-4715\n
 Contact email: betty.elliott@ht.msu.edu\n
LOCATION:Sparrow Hospital Auditorium
END:VEVENT
END:VCALENDAR
