BEGIN:VCALENDAR
VERSION:2.0
METHOD:PUBLISH
PRODID:-//Virginia Tech//VT Calendar//EN
BEGIN:VEVENT
DTSTAMP:20110327T200000Z
UID:1300730243189@events.msu.edu
CATEGORIES:Performing Arts (Dance, Music, Theatre,  ...)
DTSTART:20110327T200000Z
DTEND:20110328T045900Z
SUMMARY:CMS Wind Quintet Recital
DESCRIPTION:
 The CMS Wind Quintet is giving a recital on Sunday, 
 March 27 at 3 p.m. Admission is free, but 
 it is encouranged to bring personal care donations, 
 including diapers for the church.\n\n
 Price: free\n
 Sponsor: Administration\n
 Sponsor's Homepage: http://cms.msu.edu\n
 Contact phone: (517) 355-7661\n
 Contact email: commusic@msu.edu\n
LOCATION:St. Paul Lutheran Church, 3383 East Lake Lansing Road
END:VEVENT
END:VCALENDAR
