BEGIN:VCALENDAR
VERSION:2.0
METHOD:PUBLISH
PRODID:-//Virginia Tech//VT Calendar//EN
BEGIN:VEVENT
DTSTAMP:20110401T000000Z
UID:1300900024392@events.msu.edu
CATEGORIES:Movie / Film
DTSTART:20110401T000000Z
DTEND:20110401T045900Z
SUMMARY:Campus Center Cinemas
DESCRIPTION:
 127 Hours\n
 Thursday Wilson Auditorium 7:00 & 9:15 
 p.m.\n
 \n
 \n
 True Grit\n
 Thursday Conrad Auditorium 
 7:00 & 9:15 p.m.\n
 \n\n
 Price: Residence Hall students FREE, all others $2\n
 Sponsor: University Activities Board (UAB) and Residence 
 Halls Assoc. (RHA)\n
 Sponsor's Homepage: http://www.uabevents.com\n
 Contact name: University Activities Board\n
 Contact phone: 355-3354\n
 Contact email: uab@hfs.msu.edu\n
 for more info visit the web at:\n 
 http://www.uabevents.com or www.rha.msu.edu\n
LOCATION:Wilson  Auditorium, Conrad Auditorium
END:VEVENT
END:VCALENDAR
