BEGIN:VCALENDAR
VERSION:2.0
METHOD:PUBLISH
PRODID:-//Virginia Tech//VT Calendar//EN
BEGIN:VEVENT
DTSTAMP:20110420T233000Z
UID:1301082411996@events.msu.edu
CATEGORIES:Performing Arts (Dance, Music, Theatre,  ...)
DTSTART:20110420T233000Z
DTEND:20110421T035900Z
SUMMARY:Drum Circle
DESCRIPTION:
 Drums will be available for use, but participants 
 are invited to bring their own. All experience 
 levels are welcome. Cindy Edgerton, director 
 of music therapy at CMS, will facilitate 
 the group.\n\n
 Price: $10\n
 Sponsor: Administration\n
 Sponsor's Homepage: http://cms.msu.edu\n
 Contact phone: (517) 355-7661\n
 Contact email: commusic@msu.edu\n
LOCATION:Community Music School
END:VEVENT
END:VCALENDAR
