BEGIN:VCALENDAR
VERSION:2.0
METHOD:PUBLISH
PRODID:-//Virginia Tech//VT Calendar//EN
BEGIN:VEVENT
DTSTAMP:20110427T200000Z
UID:1302108742527@events.msu.edu
CATEGORIES:Athletics
DTSTART:20110427T200000Z
DTEND:20110428T035900Z
SUMMARY:Softball vs. Oakland (DH)
DESCRIPTION:
 Time/location subject to change. For the most 
 up-to-date information, go to http://www.msuspartans.com.\n\n
 Price: See www.msuspartans.com \n
 Sponsor's Homepage: http://events.msu.edu/athletics/\n
 for more info visit the web at:\n 
 http://www.msuspartans.com/sports/w-softbl/msu-w-softbl-body.html# 
    \n
LOCATION:Old College Field
END:VEVENT
END:VCALENDAR
