BEGIN:VCALENDAR
VERSION:2.0
METHOD:PUBLISH
PRODID:-//Virginia Tech//VT Calendar//EN
BEGIN:VEVENT
DTSTAMP:20110411T040000Z
UID:1302543173448@events.msu.edu
CATEGORIES:Public Programs
DTSTART;VALUE=DATE:20110411
DTEND;VALUE=DATE:20110412
SUMMARY:15th Annual &quot;Pack Up, Pitch In, Help Out.&quot;
DESCRIPTION:
 Expanded beyond Michigan State University's campus 
 to include the city of East Lansing in 2008, 
 the annual &quot;Pack Up, Pitch In, Help 
 Out.&quot; program will divert thousands of 
 cubic feet of waste from landfills. MSU encourages 
 students and East Lansing community members 
 to recycle and donate unwanted items from 
 now through June as part of the program, promoting 
 environmental sustainability during residence 
 hall move-out. \n
 \n
 Recyclable Items: 
 Plastics #1-#7, metal, white paper, mixed paper, 
 boxboard, newspaper, wood and carpet.\n
 \n
 Drop-off 
 Locations:\n
 MSU Residence Halls - Collection 
 through May 7\n
 East Lansing Hannah 
 Community Center - Collection on May 5-6\n
 University 
 Village Apartments - Collection through 
 May 9\n
 Spartan Village - Collection through 
 May 13\n
 Cherry Lane and Faculty Bricks Apartments 
 - Collection through June 15\n\n
 Price: free\n
 Sponsor: public\n
 Contact name: Diane Barker\n
 Contact email: barker@msu.edu\n
 for more info visit the web at:\n 
 http://www.liveon.msu.edu/newsandevents/hallclosinginfo\n
LOCATION:Michigan State University (campuswide)
END:VEVENT
END:VCALENDAR
